BEGIN:VCALENDAR
VERSION:2.0
CALSCALE:GREGORIAN
PRODID:-//Diputació de Barcelona//DibaCMS//EN
BEGIN:VEVENT
UID:8447
DTSTAMP:20260420T183709
DTSTART:20100508T000000
DTEND:20100508T000000
SUMMARY:EXPOSICIÓ DE QUERALT VALLS
LOCATION:
METHOD:PUBLISH
X-WR-CALNAME:navarcles@navarcles.cat
X-WR-TIMEZONE:Europe/Madrid
DESCRIPTION:dissabte / 7 de la tarda / Capella romànica de Sant Bartomeu
URI:https://www.navarcles.cat/actualitat/agenda/exposicio-de-queralt-valls.html
CLASS:PUBLIC
END:VEVENT
END:VCALENDAR
