BEGIN:VCALENDAR
VERSION:2.0
CALSCALE:GREGORIAN
PRODID:-//Diputació de Barcelona//DibaCMS//EN
BEGIN:VEVENT
UID:8436
DTSTAMP:20260425T042729
DTSTART:20100418T000000
DTEND:20100418T000000
SUMMARY:XIII CAMINADA DE PRIMAVERA
LOCATION:
METHOD:PUBLISH
X-WR-CALNAME:navarcles@navarcles.cat
X-WR-TIMEZONE:Europe/Madrid
DESCRIPTION:DIUMENGE / 8 DEL MATÍ / PL. DE LA VILA
URI:https://www.navarcles.cat/actualitat/agenda/xiii-caminada-de-primavera.html
CLASS:PUBLIC
END:VEVENT
END:VCALENDAR
