BEGIN:VCALENDAR
VERSION:2.0
CALSCALE:GREGORIAN
PRODID:-//Diputació de Barcelona//DibaCMS//EN
BEGIN:VEVENT
UID:8430
DTSTAMP:20260422T212803
DTSTART:20100417T000000
DTEND:20100417T000000
SUMMARY:4a MARATÓ DE DONACIÓ DE SANG
LOCATION:
METHOD:PUBLISH
X-WR-CALNAME:navarcles@navarcles.cat
X-WR-TIMEZONE:Europe/Madrid
DESCRIPTION:DISSABTE / DE 10 DEL MATÍ A 10 DEL VESPRE ININTERROMPUDAMENT / SALA DE PLENS 
URI:https://www.navarcles.cat/actualitat/agenda/4a-marato-de-donacio-de-sang.html
CLASS:PUBLIC
END:VEVENT
END:VCALENDAR
