BEGIN:VCALENDAR
VERSION:2.0
CALSCALE:GREGORIAN
PRODID:-//Diputació de Barcelona//DibaCMS//EN
BEGIN:VEVENT
UID:14016
DTSTAMP:20260421T123100
DTSTART:20260529T000000
DTEND:20260529T000000
SUMMARY:Sirat ( Cicle Gaudí)
LOCATION:
METHOD:PUBLISH
X-WR-CALNAME:navarcles@navarcles.cat
X-WR-TIMEZONE:Europe/Madrid
DESCRIPTION:En Lluís (Sergi López) i el seu fill Esteban (Bruno Núñez) emprenen un viatge cap a les muntanyes del sud del Marroc a la recerca de la Mar, la filla i germana, després de mesos desapareguda.
Hora i lloc: 21.30 h – Teatre Auditori Agustí Soler i Mas. 

URI:https://www.navarcles.cat/actualitat/agenda/sirat--cicle-gaudi.html
CLASS:PUBLIC
END:VEVENT
END:VCALENDAR
