BEGIN:VCALENDAR
VERSION:2.0
CALSCALE:GREGORIAN
PRODID:-//Diputació de Barcelona//DibaCMS//EN
BEGIN:VEVENT
UID:14009
DTSTAMP:20260421T124123
DTSTART:20260523T000000
DTEND:20260523T000000
SUMMARY:Bus al Teatre Nacional
LOCATION:
METHOD:PUBLISH
X-WR-CALNAME:navarcles@navarcles.cat
X-WR-TIMEZONE:Europe/Madrid
DESCRIPTION:Veurem “Èdip i Antígona”. Autoria i direcció: Carlota Subirós. Trobada de clubs de lectura Llegir el Teatre. Inscripció a la biblioteca. Preu: 32€
Organitza: Biblioteca de Navarcles
Hora i lloc: tarda – Teatre Nacional de Catalunya

URI:https://www.navarcles.cat/actualitat/agenda/bus-al-teatre-nacional.html
CLASS:PUBLIC
END:VEVENT
END:VCALENDAR
