BEGIN:VCALENDAR
VERSION:2.0
CALSCALE:GREGORIAN
PRODID:-//Diputació de Barcelona//DibaCMS//EN
BEGIN:VEVENT
UID:14004
DTSTAMP:20260419T142540
DTSTART:20260516T000000
DTEND:20260516T000000
SUMMARY:Ball amb Jose Ostras 
LOCATION:
METHOD:PUBLISH
X-WR-CALNAME:navarcles@navarcles.cat
X-WR-TIMEZONE:Europe/Madrid
DESCRIPTION:Hora i lloc: 17 h - L’Esplai 
Organitza: L’Esplai

URI:https://www.navarcles.cat/actualitat/agenda/14004-ball-amb-jose-ostras.html
CLASS:PUBLIC
END:VEVENT
END:VCALENDAR
