BEGIN:VCALENDAR
VERSION:2.0
CALSCALE:GREGORIAN
PRODID:-//Diputació de Barcelona//DibaCMS//EN
BEGIN:VEVENT
UID:14001
DTSTAMP:20260421T123607
DTSTART:20260514T000000
DTEND:20260514T000000
SUMMARY:Hora del conte: El secret del bosc
LOCATION:
METHOD:PUBLISH
X-WR-CALNAME:navarcles@navarcles.cat
X-WR-TIMEZONE:Europe/Madrid
DESCRIPTION:A càrrec de Curuxa Teatre. 
Organitza: Biblioteca de Navarcles
Hora i lloc: 18 h - Biblioteca

URI:https://www.navarcles.cat/actualitat/agenda/hora-del-conte-el-secret-del-bosc.html
CLASS:PUBLIC
END:VEVENT
END:VCALENDAR
