BEGIN:VCALENDAR
VERSION:2.0
CALSCALE:GREGORIAN
PRODID:-//Diputació de Barcelona//DibaCMS//EN
BEGIN:VEVENT
UID:14000
DTSTAMP:20260421T123625
DTSTART:20260513T000000
DTEND:20260513T000000
SUMMARY:Tertúlia en francès Lire et converser
LOCATION:
METHOD:PUBLISH
X-WR-CALNAME:navarcles@navarcles.cat
X-WR-TIMEZONE:Europe/Madrid
DESCRIPTION:Comentem  “L’Adversaire” d’Emmanuel Carrère. Guiatge d’Ada Guilà. 
Organitza: Biblioteca de Navarcles
Hora i lloc: 19 h – Biblioteca
 

URI:https://www.navarcles.cat/actualitat/agenda/tertulia-en-frances-lire-et-converser.html
CLASS:PUBLIC
END:VEVENT
END:VCALENDAR
