BEGIN:VCALENDAR
VERSION:2.0
CALSCALE:GREGORIAN
PRODID:-//Diputació de Barcelona//DibaCMS//EN
BEGIN:VEVENT
UID:13994
DTSTAMP:20260421T142041
DTSTART:20260523T000000
DTEND:20260523T000000
SUMMARY:4a Cursa la Corriolera
LOCATION:
METHOD:PUBLISH
X-WR-CALNAME:navarcles@navarcles.cat
X-WR-TIMEZONE:Europe/Madrid
DESCRIPTION:La Corriolera celebrarà una nova edició el 23 de maig de 2026 amb una proposta renovada en horari de tarda. La cursa tindrà sortida i arribada a la pista d’atletisme i oferirà dos recorreguts: un de 17 km, amb sortida a les 18.30 h, i un de 8 km, que començarà a les 18.45 h.

Un cop finalitzades les proves, la jornada continuarà amb una botifarrada popular, refrigeri i música amb DJ, amb l’objectiu de convertir l’esdeveniment en una festa esportiva oberta a tothom.

URI:https://www.navarcles.cat/actualitat/agenda/4a-cursa-la-corriolera.html
CLASS:PUBLIC
END:VEVENT
END:VCALENDAR
