BEGIN:VCALENDAR
VERSION:2.0
CALSCALE:GREGORIAN
PRODID:-//Diputació de Barcelona//DibaCMS//EN
BEGIN:VEVENT
UID:13845
DTSTAMP:20260423T170254
DTSTART:20260424T000000
DTEND:20260424T000000
SUMMARY:Portes obertes escola bressol Tinet
LOCATION:
METHOD:PUBLISH
X-WR-CALNAME:navarcles@navarcles.cat
X-WR-TIMEZONE:Europe/Madrid
DESCRIPTION:Les portes obertes de l’Escola Bressol Tinet se celebraran el dissabte 25 d'abril al matí.
Cal demanar cita prèvia a tinenavarcles@navarcles.cat, per WhatsApp al 609 91 97 89, o trucant al 93 831 06 15, indicant el torn desitjat: 
1r torn: de 10.30 a 11h 
2n torn: d'11 a 11.30h

URI:https://www.navarcles.cat/actualitat/agenda/13845-portes-obertes-escola-bressol-tinet.html
CLASS:PUBLIC
END:VEVENT
END:VCALENDAR
