BEGIN:VCALENDAR
VERSION:2.0
CALSCALE:GREGORIAN
PRODID:-//Diputació de Barcelona//DibaCMS//EN
BEGIN:VEVENT
UID:13613
DTSTAMP:20260426T043528
DTSTART:20260130T000000
DTEND:20260130T000000
SUMMARY:Cicle Gaudí. Una quinta portuguesa
LOCATION:
METHOD:PUBLISH
X-WR-CALNAME:navarcles@navarcles.cat
X-WR-TIMEZONE:Europe/Madrid
DESCRIPTION:La desaparició de la seva dona deixa Fernando, un tranquil professor de geografia, completament devastat. Sense rumb, suplanta la identitat d’un altre home com a jardiner d’una finca portuguesa, on estableix una amistat inesperada amb la propietària, endinsant-se en una nova vida que no li pertany.
Hora i lloc: 20.30 h- Teatre Auditori Agustí Soler i Mas

URI:https://www.navarcles.cat/actualitat/agenda/cicle-gaudi-una-quinta-portuguesa.html
CLASS:PUBLIC
END:VEVENT
END:VCALENDAR
