BEGIN:VCALENDAR
VERSION:2.0
CALSCALE:GREGORIAN
PRODID:-//Diputació de Barcelona//DibaCMS//EN
BEGIN:VEVENT
UID:13612
DTSTAMP:20260426T024329
DTSTART:20260127T000000
DTEND:20260130T000000
SUMMARY:1r Cicle de Concerts d’alumnes Entrada lliure
LOCATION:
METHOD:PUBLISH
X-WR-CALNAME:navarcles@navarcles.cat
X-WR-TIMEZONE:Europe/Madrid
DESCRIPTION:Organitza: Escola de Música i Arts Navarcles-Sant Fruitós
Hora i lloc: Horaris a determinar - Teatre Auditori Agustí Soler i Mas

URI:https://www.navarcles.cat/actualitat/agenda/1r-cicle-de-concerts-dalumnes-entrada-lliure.html
CLASS:PUBLIC
END:VEVENT
END:VCALENDAR
