BEGIN:VCALENDAR
VERSION:2.0
CALSCALE:GREGORIAN
PRODID:-//Diputació de Barcelona//DibaCMS//EN
BEGIN:VEVENT
UID:13611
DTSTAMP:20260426T024209
DTSTART:20260131T000000
DTEND:20260131T000000
SUMMARY:Vermut poètic lletres i vins
LOCATION:
METHOD:PUBLISH
X-WR-CALNAME:navarcles@navarcles.cat
X-WR-TIMEZONE:Europe/Madrid
DESCRIPTION:Una cita ineludible per a tothom i sobretot per aquelles persones que creuen que mai és tard per reinventar-se, que els negocis poden humanitzar-se i que les connexions poden transformar vides i unir destins.   Acompanyat d’una copa de vi DO Pla de Bages – Lletres i vins.
Hora i lloc: 12 h – Biblioteca
Organitza: Biblioteca Sant Valentí
 

URI:https://www.navarcles.cat/actualitat/agenda/13611-vermut-poetic-lletres-i-vins.html
CLASS:PUBLIC
END:VEVENT
END:VCALENDAR
