BEGIN:VCALENDAR
VERSION:2.0
CALSCALE:GREGORIAN
PRODID:-//Diputació de Barcelona//DibaCMS//EN
BEGIN:VEVENT
UID:13610
DTSTAMP:20260426T051629
DTSTART:20260129T000000
DTEND:20260129T000000
SUMMARY:Xerrada TEDx 6 emprenedores i un destí
LOCATION:
METHOD:PUBLISH
X-WR-CALNAME:navarcles@navarcles.cat
X-WR-TIMEZONE:Europe/Madrid
DESCRIPTION:Com fer dels llibres el pont cap a la visibilitat i el creixement dels negocis. Una trobada de 6 dones emprenedores, una d’elles navarclina... que es reinventen i continuen creixent, demostrant que l’edat mai no és un límit si hi ha propòsit i passió. 
En format de xerrada tipus TEDx de 5 minuts, cadascuna compartirà l’essència del seu negoci i la inspiració que la mou. 
Organitza: Biblioteca de Navarcles
Hora i lloc: 18 h – Biblioteca

URI:https://www.navarcles.cat/actualitat/agenda/xerrada-tedx-6-emprenedores-i-un-desti.html
CLASS:PUBLIC
END:VEVENT
END:VCALENDAR
