BEGIN:VCALENDAR
VERSION:2.0
CALSCALE:GREGORIAN
PRODID:-//Diputació de Barcelona//DibaCMS//EN
BEGIN:VEVENT
UID:13609
DTSTAMP:20260426T033808
DTSTART:20260127T000000
DTEND:20260127T000000
SUMMARY:Parlem de llibres
LOCATION:
METHOD:PUBLISH
X-WR-CALNAME:navarcles@navarcles.cat
X-WR-TIMEZONE:Europe/Madrid
DESCRIPTION:Amb Ignasi Puig, comentem “Camí de sirga” de Jesús Moncada.
Organitza: Biblioteca Sant Valentí
Hora i lloc: 19 h – Biblioteca

URI:https://www.navarcles.cat/actualitat/agenda/13609-parlem-de-llibres.html
CLASS:PUBLIC
END:VEVENT
END:VCALENDAR
