BEGIN:VCALENDAR
VERSION:2.0
CALSCALE:GREGORIAN
PRODID:-//Diputació de Barcelona//DibaCMS//EN
BEGIN:VEVENT
UID:13608
DTSTAMP:20260426T024426
DTSTART:20260127T000000
DTEND:20260127T000000
SUMMARY:Ple ordinari
LOCATION:
METHOD:PUBLISH
X-WR-CALNAME:navarcles@navarcles.cat
X-WR-TIMEZONE:Europe/Madrid
DESCRIPTION:Hora i lloc: 19 h - Sala de Plens de l’Ajuntament

URI:https://www.navarcles.cat/actualitat/agenda/13608-ple-ordinari.html
CLASS:PUBLIC
END:VEVENT
END:VCALENDAR
