BEGIN:VCALENDAR
VERSION:2.0
CALSCALE:GREGORIAN
PRODID:-//Diputació de Barcelona//DibaCMS//EN
BEGIN:VEVENT
UID:13607
DTSTAMP:20260426T024626
DTSTART:20260121T000000
DTEND:20260121T000000
SUMMARY:Tertúlia Calidoscopi
LOCATION:
METHOD:PUBLISH
X-WR-CALNAME:navarcles@navarcles.cat
X-WR-TIMEZONE:Europe/Madrid
DESCRIPTION:Club de filosofia i assaig.  Comentem “L’Art d’esdevenir humà: quatre estudis de Rob Riemen.” Guiatge del filòsof Xavier Valls.
Organitza: Biblioteca Sant Valentí
Hora i lloc: 19 h – Biblioteca 

URI:https://www.navarcles.cat/actualitat/agenda/13607-tertulia-calidoscopi.html
CLASS:PUBLIC
END:VEVENT
END:VCALENDAR
