BEGIN:VCALENDAR
VERSION:2.0
CALSCALE:GREGORIAN
PRODID:-//Diputació de Barcelona//DibaCMS//EN
BEGIN:VEVENT
UID:13606
DTSTAMP:20260426T024229
DTSTART:20260120T000000
DTEND:20260120T000000
SUMMARY:Glops d’història. Sabors amagats del vi antic
LOCATION:
METHOD:PUBLISH
X-WR-CALNAME:navarcles@navarcles.cat
X-WR-TIMEZONE:Europe/Madrid
DESCRIPTION:Activitat sensorial amb tast a cegues. Gratuït amb reserva prèvia. A càrrec de KuanUm! Lletres i vins. Activitat per adults. 
Organitza: Biblioteca sant Valentí 
Hora i lloc: 19 h  – Biblioteca

URI:https://www.navarcles.cat/actualitat/agenda/glops-dhistoria-sabors-amagats-del-vi-antic.html
CLASS:PUBLIC
END:VEVENT
END:VCALENDAR
