BEGIN:VCALENDAR
VERSION:2.0
CALSCALE:GREGORIAN
PRODID:-//Diputació de Barcelona//DibaCMS//EN
BEGIN:VEVENT
UID:12856
DTSTAMP:20260426T003727
DTSTART:20250423T000000
DTEND:20250423T000000
SUMMARY:Taller de Sant Jordi per a gent gran
LOCATION:
METHOD:PUBLISH
X-WR-CALNAME:navarcles@navarcles.cat
X-WR-TIMEZONE:Europe/Madrid
DESCRIPTION:Inscripció prèvia.
Organitza: Biblioteca de Navarcles
Hora i lloc: de 16:00 a 17:00   - Biblioteca

URI:https://www.navarcles.cat/actualitat/agenda/taller-de-sant-jordi-per-a-gent-gran.html
CLASS:PUBLIC
END:VEVENT
END:VCALENDAR
