BEGIN:VCALENDAR
VERSION:2.0
CALSCALE:GREGORIAN
PRODID:-//Diputació de Barcelona//DibaCMS//EN
BEGIN:VEVENT
UID:12801
DTSTAMP:20260424T160753
DTSTART:20250328T000000
DTEND:20250328T000000
SUMMARY:Cicle Gaudí “EL 47”
LOCATION:
METHOD:PUBLISH
X-WR-CALNAME:navarcles@navarcles.cat
X-WR-TIMEZONE:Europe/Madrid
DESCRIPTION:‘El 47’ és la inspiradora història real d’un home, un autobús i el destí d’un barri. 
Fart que l’Ajuntament de Barcelona els digués que el transport públic no podia arribar al barri de Torre Baró perquè els carrers eren massa estrets i insegurs, Manolo Vital, un dels seus veïns i conductor d’autobús a TMB, es va proposar demostrar, al volant de ‘EL 47’, que les autoritats s’equivocaven.
Organitza Societat Coral Harmonia “El Coro” 
Col·labora: La Creueta Centre Cultural
Hora i lloc: 20.30 h – Teatre Auditori Agustí Soler i Mas 

URI:https://www.navarcles.cat/actualitat/agenda/cicle-gaudi-el-47.html
CLASS:PUBLIC
END:VEVENT
END:VCALENDAR
