BEGIN:VCALENDAR
VERSION:2.0
CALSCALE:GREGORIAN
PRODID:-//Diputació de Barcelona//DibaCMS//EN
BEGIN:VEVENT
UID:12591
DTSTAMP:20260425T214503
DTSTART:20241220T000000
DTEND:20241220T000000
SUMMARY:Concert i recital de Nadal a la Residència
LOCATION:Residència Ibada 
METHOD:PUBLISH
X-WR-CALNAME:navarcles@navarcles.cat
X-WR-TIMEZONE:Europe/Madrid
DESCRIPTION:A càrrec de l’Escola de Música i Arts Navarcles-Sant Fruitós i del grup Lebina – Lectures en veu alta de la Biblioteca Sant Valentí.
Hora: 17h

URI:https://www.navarcles.cat/arees/habitatge/concert-i-recital-de-nadal-a-la-residencia.html
CLASS:PUBLIC
END:VEVENT
END:VCALENDAR
