BEGIN:VCALENDAR
VERSION:2.0
CALSCALE:GREGORIAN
PRODID:-//Diputació de Barcelona//DibaCMS//EN
BEGIN:VEVENT
UID:12573
DTSTAMP:20260422T064420
DTSTART:20241201T000000
DTEND:20241215T000000
SUMMARY:Exposició història del Coro
LOCATION:El Coro 
METHOD:PUBLISH
X-WR-CALNAME:navarcles@navarcles.cat
X-WR-TIMEZONE:Europe/Madrid
DESCRIPTION:Dies d’exposició: 1, 7, 8, 14 i 15 de desembre.
Horari: de 12 a 14 i de 18 a 20h 

URI:https://www.navarcles.cat/arees/habitatge/exposicio-historia-del-coro.html
CLASS:PUBLIC
END:VEVENT
END:VCALENDAR
