BEGIN:VCALENDAR
VERSION:2.0
CALSCALE:GREGORIAN
PRODID:-//Diputació de Barcelona//DibaCMS//EN
BEGIN:VEVENT
UID:12539
DTSTAMP:20260424T130214
DTSTART:20241130T000000
DTEND:20241130T000000
SUMMARY:Societat coral harmonia “El Coro” 125 anys
LOCATION: Auditori Agustí Soler i Mas 
METHOD:PUBLISH
X-WR-CALNAME:navarcles@navarcles.cat
X-WR-TIMEZONE:Europe/Madrid
DESCRIPTION:Acte de celebració del 125è aniversari (1898-2024) i celebració del 200 aniversari del naixement de Josep Anselm Clavé fundador dels Cors de Clavé de Catalunya.
Gratuït.
Hora: 18h

URI:https://www.navarcles.cat/arees/habitatge/societat-coral-harmonia-el-coro-125-anys.html
CLASS:PUBLIC
END:VEVENT
END:VCALENDAR
