BEGIN:VCALENDAR
VERSION:2.0
CALSCALE:GREGORIAN
PRODID:-//Diputació de Barcelona//DibaCMS//EN
BEGIN:VEVENT
UID:12113
DTSTAMP:20260426T020929
DTSTART:20240130T000000
DTEND:20240130T000000
SUMMARY:Tertúlia Parlem de llibres
LOCATION:
METHOD:PUBLISH
X-WR-CALNAME:navarcles@navarcles.cat
X-WR-TIMEZONE:Europe/Madrid
DESCRIPTION:
URI:https://www.navarcles.cat/arees/habitatge/12113-tertulia-parlem-de-llibres.html
CLASS:PUBLIC
END:VEVENT
END:VCALENDAR
