BEGIN:VCALENDAR
VERSION:2.0
CALSCALE:GREGORIAN
PRODID:-//Diputació de Barcelona//DibaCMS//EN
BEGIN:VEVENT
UID:11661
DTSTAMP:20260424T194026
DTSTART:20230508T000000
DTEND:20230508T000000
SUMMARY:Concert extraordinari d’Aitor Brocal a la percussió
LOCATION:
METHOD:PUBLISH
X-WR-CALNAME:navarcles@navarcles.cat
X-WR-TIMEZONE:Europe/Madrid
DESCRIPTION:
URI:https://www.navarcles.cat/arees/habitatge/concert-extraordinari-daitor-brocal-a-la-percussio.html
CLASS:PUBLIC
END:VEVENT
END:VCALENDAR
