BEGIN:VCALENDAR
VERSION:2.0
CALSCALE:GREGORIAN
PRODID:-//Diputació de Barcelona//DibaCMS//EN
BEGIN:VEVENT
UID:11567
DTSTAMP:20260424T162144
DTSTART:20230311T000000
DTEND:20230311T000000
SUMMARY:Ball amb Raul 
LOCATION:
METHOD:PUBLISH
X-WR-CALNAME:navarcles@navarcles.cat
X-WR-TIMEZONE:Europe/Madrid
DESCRIPTION:
URI:https://www.navarcles.cat/arees/habitatge/ball-amb-raul-.html
CLASS:PUBLIC
END:VEVENT
END:VCALENDAR
