BEGIN:VCALENDAR
VERSION:2.0
CALSCALE:GREGORIAN
PRODID:-//Diputació de Barcelona//DibaCMS//EN
BEGIN:VEVENT
UID:11446
DTSTAMP:20260420T173134
DTSTART:20230126T170000
DTEND:20230126T190000
SUMMARY:Taller Cinematogràfic
LOCATION:
METHOD:PUBLISH
X-WR-CALNAME:navarcles@navarcles.cat
X-WR-TIMEZONE:Europe/Madrid
DESCRIPTION:
URI:https://www.navarcles.cat/actualitat/agenda/taller-cinematografic.html
CLASS:PUBLIC
END:VEVENT
END:VCALENDAR
