BEGIN:VCALENDAR
VERSION:2.0
CALSCALE:GREGORIAN
PRODID:-//Diputació de Barcelona//DibaCMS//EN
BEGIN:VEVENT
UID:11384
DTSTAMP:20260424T061218
DTSTART:20221125T203000
DTEND:20221125T220000
SUMMARY:Cinema Cicle Gaudí amb la pel·lícula  "Alcarràs"
LOCATION:
METHOD:PUBLISH
X-WR-CALNAME:navarcles@navarcles.cat
X-WR-TIMEZONE:Europe/Madrid
DESCRIPTION:
URI:https://www.navarcles.cat/arees/habitatge/cinema-cicle-gaudi-amb-la-pellicula-alcarras.html
CLASS:PUBLIC
END:VEVENT
END:VCALENDAR
