BEGIN:VCALENDAR
VERSION:2.0
CALSCALE:GREGORIAN
PRODID:-//Diputació de Barcelona//DibaCMS//EN
BEGIN:VEVENT
UID:11216
DTSTAMP:20260421T104257
DTSTART:20220611T000000
DTEND:20220611T000000
SUMMARY:Sortida nocturna amb lluna plena
LOCATION:
METHOD:PUBLISH
X-WR-CALNAME:navarcles@navarcles.cat
X-WR-TIMEZONE:Europe/Madrid
DESCRIPTION:
URI:https://www.navarcles.cat/arees/habitatge/11216-sortida-nocturna-amb-lluna-plena.html
CLASS:PUBLIC
END:VEVENT
END:VCALENDAR
