BEGIN:VCALENDAR
VERSION:2.0
CALSCALE:GREGORIAN
PRODID:-//Diputació de Barcelona//DibaCMS//EN
BEGIN:VEVENT
UID:11195
DTSTAMP:20260425T160229
DTSTART:20220601T000000
DTEND:20220624T000000
SUMMARY:II Concurs de fotografia LGTBIQ+ Navarcles 2022
LOCATION:
METHOD:PUBLISH
X-WR-CALNAME:navarcles@navarcles.cat
X-WR-TIMEZONE:Europe/Madrid
DESCRIPTION:
URI:https://www.navarcles.cat/arees/habitatge/ii-concurs-de-fotografia-lgtbiq-navarcles-2022.html
CLASS:PUBLIC
END:VEVENT
END:VCALENDAR
