BEGIN:VCALENDAR
VERSION:2.0
CALSCALE:GREGORIAN
PRODID:-//Diputació de Barcelona//DibaCMS//EN
BEGIN:VEVENT
UID:11141
DTSTAMP:20260423T054825
DTSTART:20220507T190000
DTEND:20220507T210000
SUMMARY:Espectacle + Col·loqui amb en Peyo "El gallardo español"
LOCATION:
METHOD:PUBLISH
X-WR-CALNAME:navarcles@navarcles.cat
X-WR-TIMEZONE:Europe/Madrid
DESCRIPTION:
URI:https://www.navarcles.cat/arees/habitatge/espectacle--colloqui-amb-en-peyo-el-gallardo-espanol.html
CLASS:PUBLIC
END:VEVENT
END:VCALENDAR
