BEGIN:VCALENDAR
VERSION:2.0
CALSCALE:GREGORIAN
PRODID:-//Diputació de Barcelona//DibaCMS//EN
BEGIN:VEVENT
UID:11084
DTSTAMP:20260424T102049
DTSTART:20220329T193000
DTEND:20220329T203000
SUMMARY:Teertúlia Parlem de llibres
LOCATION:
METHOD:PUBLISH
X-WR-CALNAME:navarcles@navarcles.cat
X-WR-TIMEZONE:Europe/Madrid
DESCRIPTION:
URI:https://www.navarcles.cat/arees/habitatge/teertulia-parlem-de-llibres.html
CLASS:PUBLIC
END:VEVENT
END:VCALENDAR
