BEGIN:VCALENDAR
VERSION:2.0
CALSCALE:GREGORIAN
PRODID:-//Diputació de Barcelona//DibaCMS//EN
BEGIN:VEVENT
UID:11068
DTSTAMP:20260424T175040
DTSTART:20220316T193000
DTEND:20220316T203000
SUMMARY:Tertúlia Book Chat
LOCATION:
METHOD:PUBLISH
X-WR-CALNAME:navarcles@navarcles.cat
X-WR-TIMEZONE:Europe/Madrid
DESCRIPTION:
URI:https://www.navarcles.cat/arees/habitatge/11068-tertulia-book-chat.html
CLASS:PUBLIC
END:VEVENT
END:VCALENDAR
