BEGIN:VCALENDAR
VERSION:2.0
CALSCALE:GREGORIAN
PRODID:-//Diputació de Barcelona//DibaCMS//EN
BEGIN:VEVENT
UID:10984
DTSTAMP:20260424T100554
DTSTART:20220122T120000
DTEND:20220122T130000
SUMMARY:Dir Versos amb una copa als dits
LOCATION:
METHOD:PUBLISH
X-WR-CALNAME:navarcles@navarcles.cat
X-WR-TIMEZONE:Europe/Madrid
DESCRIPTION:
URI:https://www.navarcles.cat/arees/habitatge/dir-versos-amb-una-copa-als-dits.html
CLASS:PUBLIC
END:VEVENT
END:VCALENDAR
