BEGIN:VCALENDAR
VERSION:2.0
CALSCALE:GREGORIAN
PRODID:-//Diputació de Barcelona//DibaCMS//EN
BEGIN:VEVENT
UID:10981
DTSTAMP:20260424T052112
DTSTART:20220121T190000
DTEND:20220121T200000
SUMMARY:Vitivinicultura biodinàmica
LOCATION:
METHOD:PUBLISH
X-WR-CALNAME:navarcles@navarcles.cat
X-WR-TIMEZONE:Europe/Madrid
DESCRIPTION:
URI:https://www.navarcles.cat/arees/habitatge/vitivinicultura-biodinamica.html
CLASS:PUBLIC
END:VEVENT
END:VCALENDAR
