BEGIN:VCALENDAR
VERSION:2.0
CALSCALE:GREGORIAN
PRODID:-//Diputació de Barcelona//DibaCMS//EN
BEGIN:VEVENT
UID:10919
DTSTAMP:20260423T024842
DTSTART:20211121T000000
DTEND:20211121T000000
SUMMARY:Ruta de les Agulles i els Frares Encantats i Parc Natural de la Muntanya de Montserrat
LOCATION:
METHOD:PUBLISH
X-WR-CALNAME:navarcles@navarcles.cat
X-WR-TIMEZONE:Europe/Madrid
DESCRIPTION:
URI:https://www.navarcles.cat/arees/habitatge/ruta-de-les-agulles-i-els-frares-encantats-i-parc-natural-de-la-muntanya-de-montserrat.html
CLASS:PUBLIC
END:VEVENT
END:VCALENDAR
