BEGIN:VCALENDAR
VERSION:2.0
CALSCALE:GREGORIAN
PRODID:-//Diputació de Barcelona//DibaCMS//EN
BEGIN:VEVENT
UID:10916
DTSTAMP:20260422T235718
DTSTART:20211114T100000
DTEND:20211114T140000
SUMMARY:Donació de sang
LOCATION:
METHOD:PUBLISH
X-WR-CALNAME:navarcles@navarcles.cat
X-WR-TIMEZONE:Europe/Madrid
DESCRIPTION:
URI:https://www.navarcles.cat/arees/habitatge/10916-donacio-de-sang.html
CLASS:PUBLIC
END:VEVENT
END:VCALENDAR
