BEGIN:VCALENDAR
VERSION:2.0
CALSCALE:GREGORIAN
PRODID:-//Diputació de Barcelona//DibaCMS//EN
BEGIN:VEVENT
UID:10909
DTSTAMP:20260422T131343
DTSTART:20211105T190000
DTEND:20211105T210000
SUMMARY:Espectacle de petit format: LLegir - sentir Tri-a-dú
LOCATION:
METHOD:PUBLISH
X-WR-CALNAME:navarcles@navarcles.cat
X-WR-TIMEZONE:Europe/Madrid
DESCRIPTION:
URI:https://www.navarcles.cat/arees/habitatge/espectacle-de-petit-format-llegir-sentir-tri-a-du.html
CLASS:PUBLIC
END:VEVENT
END:VCALENDAR
