BEGIN:VCALENDAR
VERSION:2.0
CALSCALE:GREGORIAN
PRODID:-//Diputació de Barcelona//DibaCMS//EN
BEGIN:VEVENT
UID:10861
DTSTAMP:20260424T224935
DTSTART:20211023T090000
DTEND:20211023T140000
SUMMARY:Escape room a Navarcles
LOCATION:
METHOD:PUBLISH
X-WR-CALNAME:navarcles@navarcles.cat
X-WR-TIMEZONE:Europe/Madrid
DESCRIPTION:
URI:https://www.navarcles.cat/arees/habitatge/escape-room-a-navarcles.html
CLASS:PUBLIC
END:VEVENT
END:VCALENDAR
