BEGIN:VCALENDAR
VERSION:2.0
CALSCALE:GREGORIAN
PRODID:-//Diputació de Barcelona//DibaCMS//EN
BEGIN:VEVENT
UID:10750
DTSTAMP:20260423T014701
DTSTART:20210608T190000
DTEND:20210608T200000
SUMMARY:Tertúlia teatrera LLegim Teatre
LOCATION:
METHOD:PUBLISH
X-WR-CALNAME:navarcles@navarcles.cat
X-WR-TIMEZONE:Europe/Madrid
DESCRIPTION:Tertúlia teatrera Llegim teatre.

Comentem: “L’emperadriu del paral·lel” de Lluïsa Cunillé. Guiats per Àngel Fernàndez. Passeu a recollir el llibre per la biblioteca.

Hora i lloc: 19 h – Biblioteca

Organitza: Biblioteca Sant Valentí

URI:https://www.navarcles.cat/arees/habitatge/10750-tertulia-teatrera-llegim-teatre.html
CLASS:PUBLIC
END:VEVENT
END:VCALENDAR
