BEGIN:VCALENDAR
VERSION:2.0
CALSCALE:GREGORIAN
PRODID:-//Diputació de Barcelona//DibaCMS//EN
BEGIN:VEVENT
UID:10716
DTSTAMP:20260426T030402
DTSTART:20210521T203000
DTEND:20210521T235900
SUMMARY:Cicle Gaudí amb la projecció de "La vampira de Barcelona"
LOCATION:
METHOD:PUBLISH
X-WR-CALNAME:navarcles@navarcles.cat
X-WR-TIMEZONE:Europe/Madrid
DESCRIPTION:
URI:https://www.navarcles.cat/arees/habitatge/cicle-gaudi-amb-la-projeccio-de-la-vampira-de-barcelona.html
CLASS:PUBLIC
END:VEVENT
END:VCALENDAR
